BEGIN:VCALENDAR
VERSION:2.0
PRODID:-//Southern Ute Indian Tribe - ECPv6.15.20//NONSGML v1.0//EN
CALSCALE:GREGORIAN
METHOD:PUBLISH
X-WR-CALNAME:Southern Ute Indian Tribe
X-ORIGINAL-URL:https://www.southernute-nsn.gov
X-WR-CALDESC:Events for Southern Ute Indian Tribe
REFRESH-INTERVAL;VALUE=DURATION:PT1H
X-Robots-Tag:noindex
X-PUBLISHED-TTL:PT1H
BEGIN:VTIMEZONE
TZID:America/Denver
BEGIN:DAYLIGHT
TZOFFSETFROM:-0700
TZOFFSETTO:-0600
TZNAME:MDT
DTSTART:20240310T090000
END:DAYLIGHT
BEGIN:STANDARD
TZOFFSETFROM:-0600
TZOFFSETTO:-0700
TZNAME:MST
DTSTART:20241103T080000
END:STANDARD
BEGIN:DAYLIGHT
TZOFFSETFROM:-0700
TZOFFSETTO:-0600
TZNAME:MDT
DTSTART:20250309T090000
END:DAYLIGHT
BEGIN:STANDARD
TZOFFSETFROM:-0600
TZOFFSETTO:-0700
TZNAME:MST
DTSTART:20251102T080000
END:STANDARD
BEGIN:DAYLIGHT
TZOFFSETFROM:-0700
TZOFFSETTO:-0600
TZNAME:MDT
DTSTART:20260308T090000
END:DAYLIGHT
BEGIN:STANDARD
TZOFFSETFROM:-0600
TZOFFSETTO:-0700
TZNAME:MST
DTSTART:20261101T080000
END:STANDARD
END:VTIMEZONE
BEGIN:VEVENT
DTSTART;TZID=America/Denver:20251001T080000
DTEND;TZID=America/Denver:20251031T170000
DTSTAMP:20260425T100230
CREATED:20251007T161215Z
LAST-MODIFIED:20251007T161215Z
UID:21489-1759305600-1761930000@www.southernute-nsn.gov
SUMMARY:SunUte:  Haunt for Health Challenge
DESCRIPTION:SunUte Fitness Fans! \n\n\nGet ready to haunt your health goals this October with our  Haunt For Health Challenge — a fun and motivating way to stay active all month long!\n\n\n Challenge Dates: October 1st – October 31st\n How it works: Every minute of exercise = POINTS!\n 5 Winners will be announced at the end of the month!\n\n\n\nYou can earn points through:\n• Weightlifting \n• Walking \n• Group Ex Classes \n• Pickleball \n• Softball \n• Volleyball \n• Swimming \n• Any form of exercise! \n\n\n Sign up by September 30th using the QR code\, clicking this  link or stop by the Trainer’s Desk and chat with Eliyah!\n\n\nLet’s make October strong\, spooky\, and sweaty! \n SunUte Fitness Team
URL:https://www.southernute-nsn.gov/event/sunute-haunt-for-health-challenge/
END:VEVENT
BEGIN:VEVENT
DTSTART;TZID=America/Denver:20251007T080000
DTEND;TZID=America/Denver:20251113T170000
DTSTAMP:20260425T100230
CREATED:20251007T152027Z
LAST-MODIFIED:20251007T152027Z
UID:21459-1759824000-1763053200@www.southernute-nsn.gov
SUMMARY:SU Tribal Health:  Blood Drive Sign-Up
DESCRIPTION:Please join Southern Ute Home and Health Servies for a Blood drive at the Annual Tribal Health Fair on November 13th\, 2025!\n\n\nYou may register to donate blood by clicking this link: https://donors.vitalant.org/…/guest/phl/timeSlotsExtr…\n\n\nSee the attached flyer for more information.
URL:https://www.southernute-nsn.gov/event/su-tribal-health-blood-drive-sign-up/
END:VEVENT
BEGIN:VEVENT
DTSTART;TZID=America/Denver:20251009T080000
DTEND;TZID=America/Denver:20251205T170000
DTSTAMP:20260425T100230
CREATED:20251118T165847Z
LAST-MODIFIED:20251118T170747Z
UID:21983-1759996800-1764954000@www.southernute-nsn.gov
SUMMARY:SunUte:  Youth Basketball Sign-Up
DESCRIPTION:
URL:https://www.southernute-nsn.gov/event/sunute-youth-basketball-sign-up/
END:VEVENT
BEGIN:VEVENT
DTSTART;TZID=America/Denver:20251031T160000
DTEND;TZID=America/Denver:20251031T170000
DTSTAMP:20260425T100230
CREATED:20251007T210230Z
LAST-MODIFIED:20251007T210410Z
UID:21517-1761926400-1761930000@www.southernute-nsn.gov
SUMMARY:SU MPF:  Zombie Walk
DESCRIPTION:Zombie Walk will commence following the SUPF Halloween Costume Contest at the LCB Hall of Warriors. Walk will start immediately following the announcement of winners.  Please call (970) 563-2640 for more information.
URL:https://www.southernute-nsn.gov/event/su-mpf-zombie-walk/
END:VEVENT
BEGIN:VEVENT
DTSTART;TZID=America/Denver:20251031T180000
DTEND;TZID=America/Denver:20251031T210000
DTSTAMP:20260425T100230
CREATED:20251007T152456Z
LAST-MODIFIED:20251007T152738Z
UID:21465-1761933600-1761944400@www.southernute-nsn.gov
SUMMARY:SUBGC/SUPD:  Halloween Carnival
DESCRIPTION:
URL:https://www.southernute-nsn.gov/event/subgc-supd-halloween-carnival-2/
END:VEVENT
BEGIN:VEVENT
DTSTART;TZID=America/Denver:20251031T180000
DTEND;TZID=America/Denver:20251101T223000
DTSTAMP:20260425T100230
CREATED:20251007T202005Z
LAST-MODIFIED:20251021T215233Z
UID:21515-1761933600-1762036200@www.southernute-nsn.gov
SUMMARY:SU MPF:  Haunted House
DESCRIPTION:
URL:https://www.southernute-nsn.gov/event/su-mpf-haunted-house-and-zombie-walk/
END:VEVENT
BEGIN:VEVENT
DTSTART;TZID=America/Denver:20251031T200000
DTEND;TZID=America/Denver:20251101T133000
DTSTAMP:20260425T100230
CREATED:20251007T155700Z
LAST-MODIFIED:20251007T155700Z
UID:21483-1761940800-1762003800@www.southernute-nsn.gov
SUMMARY:SunUte:  Halloween Co-Ed Softball Tournament
DESCRIPTION:Hey Softball Ghouls & Goblins! 👻⚾ \nGet ready to haunt the diamond at our Halloween Co-Ed Softball Tournament! 🧟‍♀️🎃 Whether you’re a zombie slugger or a vampire pitcher\, we want YOU on the field! \n🗓️ Dates:\nFriday\, Oct 31 @ 8PM\, 9PM\, 10PM\nSaturday\, Nov 1 @ 9AM \n📍 Location: SunUte Multi-Sports Field (Previously Baseball Field)\n💸 Entry Fee: $300 per team (includes chills\, thrills & softball skills!)\n🎭 Costume Contest: Show up in your creepiest\, funniest\, or most creative costume for a chance to win spooky prizes! 🕷️👑 \n🔥 Why You Should Come: \n\nEpic night games under the moonlight 🌕\nFriendly competition & community vibes 💪\nPrizes\, laughs\, and unforgettable memories 🏆\nA chance to show off your costume AND your swing! 🧢🥎\n\n📞 Questions or ready to register?\nCall Sunute at 970-563-2660 ☎️ \nLet’s make this Halloween a home run! 🧟‍♂️💥\nSee you on the field… if you dare 😈
URL:https://www.southernute-nsn.gov/event/sunute-halloween-co-ed-softball-tournament/
END:VEVENT
END:VCALENDAR