BEGIN:VCALENDAR
VERSION:2.0
PRODID:-//Southern Ute Indian Tribe - ECPv6.15.20//NONSGML v1.0//EN
CALSCALE:GREGORIAN
METHOD:PUBLISH
X-WR-CALNAME:Southern Ute Indian Tribe
X-ORIGINAL-URL:https://www.southernute-nsn.gov
X-WR-CALDESC:Events for Southern Ute Indian Tribe
REFRESH-INTERVAL;VALUE=DURATION:PT1H
X-Robots-Tag:noindex
X-PUBLISHED-TTL:PT1H
BEGIN:VTIMEZONE
TZID:America/Denver
BEGIN:DAYLIGHT
TZOFFSETFROM:-0700
TZOFFSETTO:-0600
TZNAME:MDT
DTSTART:20240310T090000
END:DAYLIGHT
BEGIN:STANDARD
TZOFFSETFROM:-0600
TZOFFSETTO:-0700
TZNAME:MST
DTSTART:20241103T080000
END:STANDARD
BEGIN:DAYLIGHT
TZOFFSETFROM:-0700
TZOFFSETTO:-0600
TZNAME:MDT
DTSTART:20250309T090000
END:DAYLIGHT
BEGIN:STANDARD
TZOFFSETFROM:-0600
TZOFFSETTO:-0700
TZNAME:MST
DTSTART:20251102T080000
END:STANDARD
BEGIN:DAYLIGHT
TZOFFSETFROM:-0700
TZOFFSETTO:-0600
TZNAME:MDT
DTSTART:20260308T090000
END:DAYLIGHT
BEGIN:STANDARD
TZOFFSETFROM:-0600
TZOFFSETTO:-0700
TZNAME:MST
DTSTART:20261101T080000
END:STANDARD
END:VTIMEZONE
BEGIN:VEVENT
DTSTART;VALUE=DATE:20250306
DTEND;VALUE=DATE:20250701
DTSTAMP:20260422T082618
CREATED:20250320T213353Z
LAST-MODIFIED:20250320T213353Z
UID:19387-1741219200-1751327999@www.southernute-nsn.gov
SUMMARY:SU Agriculture Division:  Ag Land Survey
DESCRIPTION:The Southern Ute Department of Natural Resources has been tasked with creating a Comprehensive Agricultural Land Management Plan with long-term and short-term ideas for the plan that includes conceptual goals and objectives for further planning and development. The department would like to encourage the Southern Ute tribal membership to complete the survey regarding as-signed tribal agricultural lands. The survey can be obtained by scanning the attached QR code or by visiting the following survey link: https://forms.office.com/r/dTv0KjjKCx through June 30\, 2025. The survey will also be available during the Southern Ute Tribal Membership General Meeting in April. For further information\, questions\, or concerns\, please call: 970-563-2237.
URL:https://www.southernute-nsn.gov/event/su-agriculture-division-ag-land-survey/
END:VEVENT
BEGIN:VEVENT
DTSTART;TZID=America/Denver:20250314T080000
DTEND;TZID=America/Denver:20250411T170000
DTSTAMP:20260422T082618
CREATED:20250320T212820Z
LAST-MODIFIED:20250320T212820Z
UID:19384-1741939200-1744390800@www.southernute-nsn.gov
SUMMARY:SU Cultural Preservation:  Ute Language Survey
DESCRIPTION:
URL:https://www.southernute-nsn.gov/event/su-cultural-preservation-ute-language-survey/
END:VEVENT
BEGIN:VEVENT
DTSTART;TZID=America/Denver:20250317T080000
DTEND;TZID=America/Denver:20250324T170000
DTSTAMP:20260422T082618
CREATED:20250320T212512Z
LAST-MODIFIED:20250320T212539Z
UID:19381-1742198400-1742835600@www.southernute-nsn.gov
SUMMARY:SU SCSYAC:  Bowling & Lunch Sign-Up
DESCRIPTION:
URL:https://www.southernute-nsn.gov/event/su-scsyac-bowling-lunch-sign-up/
END:VEVENT
BEGIN:VEVENT
DTSTART;VALUE=DATE:20250320
DTEND;VALUE=DATE:20250324
DTSTAMP:20260422T082618
CREATED:20250226T155940Z
LAST-MODIFIED:20250226T155940Z
UID:19217-1742428800-1742774399@www.southernute-nsn.gov
SUMMARY:SU Elders Services - Denver March Pow Wow
DESCRIPTION:6 Rooms available.  Please call Elders Services at (970) 563-2309 for more information.  Van will depart Elder Services at 8:00 a.m.
URL:https://www.southernute-nsn.gov/event/su-elders-services-denver-march-pow-wow/
END:VEVENT
BEGIN:VEVENT
DTSTART;TZID=America/Denver:20250322T100000
DTEND;TZID=America/Denver:20250322T140000
DTSTAMP:20260422T082618
CREATED:20250313T163600Z
LAST-MODIFIED:20250313T163600Z
UID:19307-1742637600-1742652000@www.southernute-nsn.gov
SUMMARY:Agriculture Producers Gathering 03222025
DESCRIPTION:Tribal Members involved in agriculture\, whether currently assigned\, interested in future assignments\, or designated as beneficiaries\, are invited to a gathering hosted by Treasurer James “Mike” Olguin and Tribal Council. This will be held on Saturday\, March 22\, 2025 from 10:00 AM to 2:00 PM at the Multi-Purpose Facility in the Large Room. A lunch will be provided and prepared by Treasurer Olguin.\nDiscussion topics will include:\n\nFormation of an Experienced Farmer Work Group:\n\nGauge interest in establishing a collaborative work group of experienced farmers to guide and support new Tribal farmers.\n\n\nComprehensive Agricultural Land Management Plan:\n\nDiscussion on the Agricultural Land Management Plan\, its goals and objectives.\n\n\nProducer Needs and System Improvement:\n\nOpenly addressing the needs of agricultural producers\, exploring new ideas\, and providing a platform for constructive feedback on current systems.\n\n\n\nFor more information or questions\, please contact Treasurer James “Mike” Olguin at 970.563.2404 or miolguin@southernute-nsn.gov.
URL:https://www.southernute-nsn.gov/event/agriculture-producers-gathering-03222025/
END:VEVENT
END:VCALENDAR