BEGIN:VCALENDAR
VERSION:2.0
PRODID:-//Southern Ute Indian Tribe - ECPv6.15.20//NONSGML v1.0//EN
CALSCALE:GREGORIAN
METHOD:PUBLISH
X-ORIGINAL-URL:https://www.southernute-nsn.gov
X-WR-CALDESC:Events for Southern Ute Indian Tribe
REFRESH-INTERVAL;VALUE=DURATION:PT1H
X-Robots-Tag:noindex
X-PUBLISHED-TTL:PT1H
BEGIN:VTIMEZONE
TZID:America/Denver
BEGIN:DAYLIGHT
TZOFFSETFROM:-0700
TZOFFSETTO:-0600
TZNAME:MDT
DTSTART:20230312T090000
END:DAYLIGHT
BEGIN:STANDARD
TZOFFSETFROM:-0600
TZOFFSETTO:-0700
TZNAME:MST
DTSTART:20231105T080000
END:STANDARD
BEGIN:DAYLIGHT
TZOFFSETFROM:-0700
TZOFFSETTO:-0600
TZNAME:MDT
DTSTART:20240310T090000
END:DAYLIGHT
BEGIN:STANDARD
TZOFFSETFROM:-0600
TZOFFSETTO:-0700
TZNAME:MST
DTSTART:20241103T080000
END:STANDARD
BEGIN:DAYLIGHT
TZOFFSETFROM:-0700
TZOFFSETTO:-0600
TZNAME:MDT
DTSTART:20250309T090000
END:DAYLIGHT
BEGIN:STANDARD
TZOFFSETFROM:-0600
TZOFFSETTO:-0700
TZNAME:MST
DTSTART:20251102T080000
END:STANDARD
END:VTIMEZONE
BEGIN:VEVENT
DTSTART;VALUE=DATE:20240610
DTEND;VALUE=DATE:20240810
DTSTAMP:20260420T193252
CREATED:20240326T142443Z
LAST-MODIFIED:20240326T142443Z
UID:16609-1717977600-1723247999@www.southernute-nsn.gov
SUMMARY:SUBGC - Summer Club
DESCRIPTION:The 2024 Summer Club for the Boys and Girls Club of the Southern Ute Indian Tribe will be June 10\, 2024 – August 9\, 2024.  No club July 4-12\, 2024.  Ages 6-18\, limited space available. \nTribal member meeting is April 30\, 2024 @ 5:30 p.m. at the Mouache Room at SunUte Community Center. \nCommunity meetings will be May 14\, 2024 @ 12 p.m. and May 21\, 2024 @ 5:30 p.m. \nFor any questions\, contact SUBGC @ (970) 563-4753 or bgcstaff@southernute-nsn.gov
URL:https://www.southernute-nsn.gov/event/subgc-summer-club/
END:VEVENT
BEGIN:VEVENT
DTSTART;TZID=America/Denver:20240731T080000
DTEND;TZID=America/Denver:20240807T170000
DTSTAMP:20260420T193252
CREATED:20240731T212932Z
LAST-MODIFIED:20240731T212932Z
UID:17804-1722412800-1723050000@www.southernute-nsn.gov
SUMMARY:Southern Ute Royalty Applications Sought
DESCRIPTION:Autumn Sage will be out of the area beginning July 31st – August 8th. Therefore Royalty applications can be picked up and dropped off at the Culture Department. They will be stamped in and sealed. \nReminder: DEADLINE to submit applications is Wednesday\, August 7th at 12:00 p.m.  \nThank you for your understanding and cooperation. For more information\, please call 970-563-2983.
URL:https://www.southernute-nsn.gov/event/southern-ute-royalty-applications-sought/
END:VEVENT
BEGIN:VEVENT
DTSTART;TZID=America/Denver:20240801T080000
DTEND;TZID=America/Denver:20240804T133000
DTSTAMP:20260420T193252
CREATED:20240731T213753Z
LAST-MODIFIED:20240731T213753Z
UID:17811-1722499200-1722778200@www.southernute-nsn.gov
SUMMARY:SunUte:  FLC Basketball Camp
DESCRIPTION:Eligibility has changed to boys AND girls from grades 3rd-12th grade \nHours: \nThurs/Frid – 8:30am-11:30am (no lunch\, just snacks) \nSat/Sun – 8:30am-1:30pm (lunch and snacks provided) \nWhat: Youth Basketball Camp \nWhere: FLC – Whalen Gym \nWhen: August 1st-4th \nTime: 8:30-12:30p \nAge: 3rd-12th grade boys AND girls \nWho: Open to all Ute TMs\, descendants\, and community \nCall (970) 563-0214 TODAY to reserve your spot!
URL:https://www.southernute-nsn.gov/event/sunute-flc-basketball-camp/
END:VEVENT
BEGIN:VEVENT
DTSTART;VALUE=DATE:20240803
DTEND;VALUE=DATE:20240804
DTSTAMP:20260420T193252
CREATED:20240716T003453Z
LAST-MODIFIED:20240716T003453Z
UID:17661-1722643200-1722729599@www.southernute-nsn.gov
SUMMARY:SunUte:  Co-Ed Volleyball Tournamnet
DESCRIPTION:Join us for this year’s co-ed volleyball tournament! Show off your bump\, set\, and spike! \n$300 entry fee
URL:https://www.southernute-nsn.gov/event/sunute-co-ed-volleyball-tournamnet/
END:VEVENT
BEGIN:VEVENT
DTSTART;VALUE=DATE:20240803
DTEND;VALUE=DATE:20240804
DTSTAMP:20260420T193252
CREATED:20240731T213456Z
LAST-MODIFIED:20240731T213456Z
UID:17809-1722643200-1722729599@www.southernute-nsn.gov
SUMMARY:SUCCM:  CLOSED
DESCRIPTION:The Southern Ute Culture Center and Museum (SUCCM) will be CLOSED on Saturday\, August 3\, in preparation for the upcoming Pino Nuche Art Market & Juried Show. We apologize for any inconvenience that follows the closure. \nMuseum business hours will remain unaffected through the week of August 4 – August 11 and will be as follows: \nMuseum Administration Hours: Monday – Friday\, 8 am – 5pm. \nMuseum Permanent/Temporary Galleries & Gift Shop: Tuesday – Saturday\, 9 am – 4 pm. \nIf you have any questions about our closure\, please feel free to contact the SUCCM Front Desk at 970-563-2980.
URL:https://www.southernute-nsn.gov/event/succm-closed/
END:VEVENT
BEGIN:VEVENT
DTSTART;TZID=America/Denver:20240803T090000
DTEND;TZID=America/Denver:20240803T150000
DTSTAMP:20260420T193252
CREATED:20240808T154516Z
LAST-MODIFIED:20240808T154516Z
UID:17856-1722675600-1722697200@www.southernute-nsn.gov
SUMMARY:SU MPF - Indoor Yard Sale
DESCRIPTION:
URL:https://www.southernute-nsn.gov/event/su-mpf-indoor-yard-sale-8/
END:VEVENT
END:VCALENDAR