BEGIN:VCALENDAR
VERSION:2.0
PRODID:-//Southern Ute Indian Tribe - ECPv6.15.20//NONSGML v1.0//EN
CALSCALE:GREGORIAN
METHOD:PUBLISH
X-WR-CALNAME:Southern Ute Indian Tribe
X-ORIGINAL-URL:https://www.southernute-nsn.gov
X-WR-CALDESC:Events for Southern Ute Indian Tribe
REFRESH-INTERVAL;VALUE=DURATION:PT1H
X-Robots-Tag:noindex
X-PUBLISHED-TTL:PT1H
BEGIN:VTIMEZONE
TZID:America/Denver
BEGIN:DAYLIGHT
TZOFFSETFROM:-0700
TZOFFSETTO:-0600
TZNAME:MDT
DTSTART:20230312T090000
END:DAYLIGHT
BEGIN:STANDARD
TZOFFSETFROM:-0600
TZOFFSETTO:-0700
TZNAME:MST
DTSTART:20231105T080000
END:STANDARD
BEGIN:DAYLIGHT
TZOFFSETFROM:-0700
TZOFFSETTO:-0600
TZNAME:MDT
DTSTART:20240310T090000
END:DAYLIGHT
BEGIN:STANDARD
TZOFFSETFROM:-0600
TZOFFSETTO:-0700
TZNAME:MST
DTSTART:20241103T080000
END:STANDARD
BEGIN:DAYLIGHT
TZOFFSETFROM:-0700
TZOFFSETTO:-0600
TZNAME:MDT
DTSTART:20250309T090000
END:DAYLIGHT
BEGIN:STANDARD
TZOFFSETFROM:-0600
TZOFFSETTO:-0700
TZNAME:MST
DTSTART:20251102T080000
END:STANDARD
END:VTIMEZONE
BEGIN:VEVENT
DTSTART;TZID=America/Denver:20240423T080000
DTEND;TZID=America/Denver:20240701T170000
DTSTAMP:20260425T053916
CREATED:20240423T212406Z
LAST-MODIFIED:20240423T212406Z
UID:16909-1713859200-1719853200@www.southernute-nsn.gov
SUMMARY:SU Education:  Scholarships Available for 2024-2025 Academic Year
DESCRIPTION:Scholarship applications are available for Southern Ute Tribal Members for the upcoming 2024-2025 academic year.  Please note deadlines and submit accordingly. \nContact Michael Kirsch\, Assistant Director for more information.  (970) 563-2783 mkirsch@southernute-nsn.gov.
URL:https://www.southernute-nsn.gov/event/su-education-scholarships-available-for-2024-2025-academic-year/
END:VEVENT
BEGIN:VEVENT
DTSTART;TZID=America/Denver:20240508T060000
DTEND;TZID=America/Denver:20240731T180000
DTSTAMP:20260425T053916
CREATED:20240508T152003Z
LAST-MODIFIED:20240508T152029Z
UID:17067-1715148000-1722448800@www.southernute-nsn.gov
SUMMARY:Lake Capote:  Season-Long Fishing Derby
DESCRIPTION:Lake Capote will be celebrating their 60th Anniversary this year! \nThe Lake will be hosting a season long Fishing Derby. If you catch a tagged fish\, you win a prize.  ( prizes will vary) \nHours of Operation: \nMonday-Sunday \nSunup to Sundown \nBait shop: \nMonday-Sunday \n8:00 am-6:00pm \nIf you have any questions\, you can contact Lake Capote at (970) 883-2273 or the Wildlife Division at (970) 563-0130.
URL:https://www.southernute-nsn.gov/event/lake-capote-season-long-fishing-derby/
END:VEVENT
BEGIN:VEVENT
DTSTART;TZID=America/Denver:20240603T070000
DTEND;TZID=America/Denver:20240607T194500
DTSTAMP:20260425T053916
CREATED:20240604T213604Z
LAST-MODIFIED:20240604T213604Z
UID:17350-1717398000-1717789500@www.southernute-nsn.gov
SUMMARY:SunUte:  Summer Pool Hours
DESCRIPTION:SunUte would like to share Summer Pool Hours information with the community.  Pool hours will be Monday- Friday\, 7:00 a.m. – 7:45 p.m.  Saturday and Sunday 10:00 a.m. – 4:45 p.m.  The pool will not be available during Swimming Lessons on Monday\, Wednesday\, or Fridays 9:00-11:15 a.m.  There is one lap lane available for Adult lap swim only.  For more information\, please call Abel Velasquez\, Fitness Director\, at (970) 563-2651.
URL:https://www.southernute-nsn.gov/event/sunute-summer-pool-hours/
END:VEVENT
BEGIN:VEVENT
DTSTART;TZID=America/Denver:20240604T130000
DTEND;TZID=America/Denver:20240604T170000
DTSTAMP:20260425T053916
CREATED:20240604T214752Z
LAST-MODIFIED:20240604T214752Z
UID:17363-1717506000-1717520400@www.southernute-nsn.gov
SUMMARY:Elder Services:  Movie Day
DESCRIPTION:Movie Day for Elders in Durango\, CO.  Van will depart Elder Services at 1:00 p.m.  Please call Elder Services at (970) 563-2309 to inquire or to request your name \nbe added to the activities list. \n 
URL:https://www.southernute-nsn.gov/event/elder-services-movie-day/
END:VEVENT
BEGIN:VEVENT
DTSTART;TZID=America/Denver:20240604T173000
DTEND;TZID=America/Denver:20240604T193000
DTSTAMP:20260425T053916
CREATED:20240529T225134Z
LAST-MODIFIED:20240529T225134Z
UID:17288-1717522200-1717529400@www.southernute-nsn.gov
SUMMARY:Indigenous Cooking Class
DESCRIPTION:Shining Mountain Health and Wellness is hosting an Indigenous Cooking Class with guest chef Karlos Baca on Tuesdays June 4th and June 11th from 5:30-7:30pm at Southern Ute Higher Education Building\, 330 Burns Avenue\, Ignacio. Sign up for either day or both using the QR code or link on the flyer. Contact Lisa Smith at 970-563-2349 for more information.
URL:https://www.southernute-nsn.gov/event/indigenous-cooking-class/
LOCATION:Southern Ute Higher Education Building\, 330 Burns Avenue\, Ignacio\, CO\, United States
END:VEVENT
END:VCALENDAR