BEGIN:VCALENDAR
VERSION:2.0
PRODID:-//Southern Ute Indian Tribe - ECPv6.15.20//NONSGML v1.0//EN
CALSCALE:GREGORIAN
METHOD:PUBLISH
X-ORIGINAL-URL:https://www.southernute-nsn.gov
X-WR-CALDESC:Events for Southern Ute Indian Tribe
REFRESH-INTERVAL;VALUE=DURATION:PT1H
X-Robots-Tag:noindex
X-PUBLISHED-TTL:PT1H
BEGIN:VTIMEZONE
TZID:America/Denver
BEGIN:DAYLIGHT
TZOFFSETFROM:-0700
TZOFFSETTO:-0600
TZNAME:MDT
DTSTART:20230312T090000
END:DAYLIGHT
BEGIN:STANDARD
TZOFFSETFROM:-0600
TZOFFSETTO:-0700
TZNAME:MST
DTSTART:20231105T080000
END:STANDARD
BEGIN:DAYLIGHT
TZOFFSETFROM:-0700
TZOFFSETTO:-0600
TZNAME:MDT
DTSTART:20240310T090000
END:DAYLIGHT
BEGIN:STANDARD
TZOFFSETFROM:-0600
TZOFFSETTO:-0700
TZNAME:MST
DTSTART:20241103T080000
END:STANDARD
BEGIN:DAYLIGHT
TZOFFSETFROM:-0700
TZOFFSETTO:-0600
TZNAME:MDT
DTSTART:20250309T090000
END:DAYLIGHT
BEGIN:STANDARD
TZOFFSETFROM:-0600
TZOFFSETTO:-0700
TZNAME:MST
DTSTART:20251102T080000
END:STANDARD
END:VTIMEZONE
BEGIN:VEVENT
DTSTART;VALUE=DATE:20240423
DTEND;VALUE=DATE:20240521
DTSTAMP:20260421T054112
CREATED:20240423T204512Z
LAST-MODIFIED:20240423T204512Z
UID:16880-1713830400-1716249599@www.southernute-nsn.gov
SUMMARY:SunUte - Indoor Summer Soccer League Registration
DESCRIPTION:Want to play soccer\, but don’t want to risk the sunburn? Well\, we’ve got the league for you! \nJoin us this June for our indoor adult co-ed soccer league! \nSign up now at front desk!
URL:https://www.southernute-nsn.gov/event/sunute-indoor-summer-soccer-league-registration/
END:VEVENT
BEGIN:VEVENT
DTSTART;VALUE=DATE:20240423
DTEND;VALUE=DATE:20240601
DTSTAMP:20260421T054112
CREATED:20240423T204155Z
LAST-MODIFIED:20240423T204221Z
UID:16878-1713830400-1717199999@www.southernute-nsn.gov
SUMMARY:SunUte:  Co-Ed & Men's Softball League Registration
DESCRIPTION:Join us in this year’s Men’s and Co-Ed Softball League! \n Deadline: May 31st \nRegistration Fee: $350/team \nDays: Men’s – Tues Nights & Women’s – Wednesday Nights \n \n 
URL:https://www.southernute-nsn.gov/event/sunute-co-ed-mens-softball-league/
END:VEVENT
BEGIN:VEVENT
DTSTART;TZID=America/Denver:20240423T080000
DTEND;TZID=America/Denver:20240601T170000
DTSTAMP:20260421T054112
CREATED:20240423T223825Z
LAST-MODIFIED:20240423T223825Z
UID:16922-1713859200-1717261200@www.southernute-nsn.gov
SUMMARY:SU Education:  YEP Applications OPEN!
DESCRIPTION:The Southern Ute Youth Employment Program’s (YEP) job posting is up and is open to Tribal Member Youth 14-17 years of age. \nThe Youth Employment Program’s job posting opened to First Descendants on Monday\, April 22\, 2024\, for the same age range. \nYouth that apply will be contacted by the YEP Coordinator for interview schedule. \nIf there are any questions or concerns\, please don’t hesitate to contact Mr. Dustin Weaver at (970) 563-2786 or dweaver@southernute-nsn.gov
URL:https://www.southernute-nsn.gov/event/su-education-yep-applications-open/
END:VEVENT
BEGIN:VEVENT
DTSTART;TZID=America/Denver:20240423T080000
DTEND;TZID=America/Denver:20240701T170000
DTSTAMP:20260421T054112
CREATED:20240423T212406Z
LAST-MODIFIED:20240423T212406Z
UID:16909-1713859200-1719853200@www.southernute-nsn.gov
SUMMARY:SU Education:  Scholarships Available for 2024-2025 Academic Year
DESCRIPTION:Scholarship applications are available for Southern Ute Tribal Members for the upcoming 2024-2025 academic year.  Please note deadlines and submit accordingly. \nContact Michael Kirsch\, Assistant Director for more information.  (970) 563-2783 mkirsch@southernute-nsn.gov.
URL:https://www.southernute-nsn.gov/event/su-education-scholarships-available-for-2024-2025-academic-year/
END:VEVENT
BEGIN:VEVENT
DTSTART;VALUE=DATE:20240501
DTEND;VALUE=DATE:20240601
DTSTAMP:20260421T054112
CREATED:20240423T203809Z
LAST-MODIFIED:20240423T203809Z
UID:16873-1714521600-1717199999@www.southernute-nsn.gov
SUMMARY:SU DNR:  Brunot Rare Game Permit Applications
DESCRIPTION:The Wildlife Division will be accepting Brunot Rare Game Applications the month of May.  The drawing will be held in June. \nThe application will be available online May 1st- May 31st\, 2024: \nhttps://www.southernute-nsn.gov/rare-game-app/ \nIf you have any questions or need any additional information\, please call (970) 563-0130.
URL:https://www.southernute-nsn.gov/event/su-dnr-brunot-rare-game-permit-applications/
END:VEVENT
BEGIN:VEVENT
DTSTART;VALUE=DATE:20240506
DTEND;VALUE=DATE:20240522
DTSTAMP:20260421T054112
CREATED:20240506T223341Z
LAST-MODIFIED:20240506T223341Z
UID:17045-1714953600-1716335999@www.southernute-nsn.gov
SUMMARY:54th Annual Los Pinos Spring Classic Softball Tournament Registration OPEN
DESCRIPTION:There is still time to sign up for our Annual Softball Tournament!
URL:https://www.southernute-nsn.gov/event/54th-annual-los-pinos-spring-classic-softball-tournament-registration-open/
END:VEVENT
BEGIN:VEVENT
DTSTART;VALUE=DATE:20240506
DTEND;VALUE=DATE:20240604
DTSTAMP:20260421T054112
CREATED:20240508T150759Z
LAST-MODIFIED:20240508T150759Z
UID:17064-1714953600-1717459199@www.southernute-nsn.gov
SUMMARY:SunUte: Summer Swim Lesson Sign-Up 2024
DESCRIPTION:Keeping Kids Safe Around Water\nSummer Swim Lessons are coming soon!!!\nRegistration opens Monday\, 5/6.  First session begins June 3\, 2024.\nSUIT Tribal Member youth receive FREE swim lessons.\nFor more information\, please contact\nAbel Velasquez at 970-563-2651.
URL:https://www.southernute-nsn.gov/event/sunute-summer-swim-lesson-sign-up-2024/
END:VEVENT
BEGIN:VEVENT
DTSTART;TZID=America/Denver:20240508T060000
DTEND;TZID=America/Denver:20240731T180000
DTSTAMP:20260421T054112
CREATED:20240508T152003Z
LAST-MODIFIED:20240508T152029Z
UID:17067-1715148000-1722448800@www.southernute-nsn.gov
SUMMARY:Lake Capote:  Season-Long Fishing Derby
DESCRIPTION:Lake Capote will be celebrating their 60th Anniversary this year! \nThe Lake will be hosting a season long Fishing Derby. If you catch a tagged fish\, you win a prize.  ( prizes will vary) \nHours of Operation: \nMonday-Sunday \nSunup to Sundown \nBait shop: \nMonday-Sunday \n8:00 am-6:00pm \nIf you have any questions\, you can contact Lake Capote at (970) 883-2273 or the Wildlife Division at (970) 563-0130.
URL:https://www.southernute-nsn.gov/event/lake-capote-season-long-fishing-derby/
END:VEVENT
BEGIN:VEVENT
DTSTART;TZID=America/Denver:20240515T080000
DTEND;TZID=America/Denver:20240524T170000
DTSTAMP:20260421T054112
CREATED:20240515T215314Z
LAST-MODIFIED:20240515T215314Z
UID:17164-1715760000-1716570000@www.southernute-nsn.gov
SUMMARY:Tri Ute Games Registration
DESCRIPTION:This year\, SunUte will be opening enrollment for the Tri-Ute Games to Southern Ute 2nd descendants! \nWe are so happy to be able provide this opportunity and look forward to all the new participants!  \nOur new athlete application deadline is May 24th. We are encouraging all enrolled Southern Ute Tribal members and Southern Ute 1st and 2nd descendants to sign up! \n Requirements: \n\nMust be an enrolled SU Tribal Member\nOR a SU 1st or 2nd descendant\nAges 9-18\nMust be able to provide a CIB or letter of descendancy (can be provided by TIS)
URL:https://www.southernute-nsn.gov/event/tri-ute-games-registration/
END:VEVENT
BEGIN:VEVENT
DTSTART;TZID=America/Denver:20240515T080000
DTEND;TZID=America/Denver:20240524T170000
DTSTAMP:20260421T054112
CREATED:20240515T215612Z
LAST-MODIFIED:20240515T215612Z
UID:17167-1715760000-1716570000@www.southernute-nsn.gov
SUMMARY:SU DRUM:  Seeking 2024 Graduate Photos
DESCRIPTION:Please take notice of the extended deadline for the 2024 Senior Graduates photo requests for The Southern Ute Drum. \nThe deadline is now Friday\, May 24.
URL:https://www.southernute-nsn.gov/event/su-drum-seeking-2024-graduate-photos/
END:VEVENT
BEGIN:VEVENT
DTSTART;TZID=America/Denver:20240517T090000
DTEND;TZID=America/Denver:20240517T130000
DTSTAMP:20260421T054112
CREATED:20240515T214747Z
LAST-MODIFIED:20240515T214818Z
UID:17156-1715936400-1715950800@www.southernute-nsn.gov
SUMMARY:SUIMA - Field Day
DESCRIPTION:SUIMA will be holding their annual Field Day on Friday\, May 17\, 2024 from 9:30am-1:00pm at the Sun Ute Field.  If you have any questions\, please call the school at 970-563-0253.
URL:https://www.southernute-nsn.gov/event/suima-field-day/
END:VEVENT
BEGIN:VEVENT
DTSTART;TZID=America/Denver:20240517T120000
DTEND;TZID=America/Denver:20240517T130000
DTSTAMP:20260421T054112
CREATED:20240516T145354Z
LAST-MODIFIED:20240516T145354Z
UID:17182-1715947200-1715950800@www.southernute-nsn.gov
SUMMARY:Ute Language Class - CANCELLED
DESCRIPTION:The remaining scheduled fRIDAY  lunch Ute Language Classes for the month of May are CANCELLED. The class will resume June 7th and more information will be forthcoming.
URL:https://www.southernute-nsn.gov/event/ute-language-class-cancelled/
END:VEVENT
END:VCALENDAR