BEGIN:VCALENDAR
VERSION:2.0
PRODID:-//Southern Ute Indian Tribe - ECPv6.15.20//NONSGML v1.0//EN
CALSCALE:GREGORIAN
METHOD:PUBLISH
X-ORIGINAL-URL:https://www.southernute-nsn.gov
X-WR-CALDESC:Events for Southern Ute Indian Tribe
REFRESH-INTERVAL;VALUE=DURATION:PT1H
X-Robots-Tag:noindex
X-PUBLISHED-TTL:PT1H
BEGIN:VTIMEZONE
TZID:America/Denver
BEGIN:DAYLIGHT
TZOFFSETFROM:-0700
TZOFFSETTO:-0600
TZNAME:MDT
DTSTART:20230312T090000
END:DAYLIGHT
BEGIN:STANDARD
TZOFFSETFROM:-0600
TZOFFSETTO:-0700
TZNAME:MST
DTSTART:20231105T080000
END:STANDARD
BEGIN:DAYLIGHT
TZOFFSETFROM:-0700
TZOFFSETTO:-0600
TZNAME:MDT
DTSTART:20240310T090000
END:DAYLIGHT
BEGIN:STANDARD
TZOFFSETFROM:-0600
TZOFFSETTO:-0700
TZNAME:MST
DTSTART:20241103T080000
END:STANDARD
BEGIN:DAYLIGHT
TZOFFSETFROM:-0700
TZOFFSETTO:-0600
TZNAME:MDT
DTSTART:20250309T090000
END:DAYLIGHT
BEGIN:STANDARD
TZOFFSETFROM:-0600
TZOFFSETTO:-0700
TZNAME:MST
DTSTART:20251102T080000
END:STANDARD
END:VTIMEZONE
BEGIN:VEVENT
DTSTART;TZID=America/Denver:20240104T080000
DTEND;TZID=America/Denver:20240131T170000
DTSTAMP:20260421T091935
CREATED:20240104T231432Z
LAST-MODIFIED:20240104T231432Z
UID:15981-1704355200-1706720400@www.southernute-nsn.gov
SUMMARY:SU Wildlife Seeks Bids for (5) Bison - Southern Ute Tribal Members Only
DESCRIPTION:The Wildlife Resource Management Division will be collecting sealed bids from Tribal Members only for (5) Live Bison. They will all be females (3-9 yrs. old) 100% grass fed and are up to date on vaccines. \nBids are set at a $500 minimum and must be submitted by January 31st\, 2024\, by 5:00pm. All buyers will be required to sign a Sales Agreement and agree to the Terms and Conditions of the sale. \nFor more information\, please call the Wildlife Division at (970) 563-0130. \n \n 
URL:https://www.southernute-nsn.gov/event/su-wildlife-seeks-bids-for-5-bison-southern-ute-tribal-members-only/
END:VEVENT
BEGIN:VEVENT
DTSTART;VALUE=DATE:20240122
DTEND;VALUE=DATE:20240210
DTSTAMP:20260421T091935
CREATED:20240122T190947Z
LAST-MODIFIED:20240122T190947Z
UID:16105-1705881600-1707523199@www.southernute-nsn.gov
SUMMARY:SUIMA - Clothing Drive
DESCRIPTION:SUIMA’s upper elementary students are collecting winter clothing for students in the Pine Ridge\, South Dakota schools until February 9\, 2024. \nDrop off locations are: The Southern Ute Indian Montessori Academy\, Sun Ute Rec. Center\, Hall of Warriors in the Leaonard C. Burch Building\, Southern Ute Museum\, and the Sky Ute Casino. \nIf you have any questions\, please call the school at 970-563-0253.
URL:https://www.southernute-nsn.gov/event/suima-clothing-drive/
END:VEVENT
BEGIN:VEVENT
DTSTART;TZID=America/Denver:20240126T113000
DTEND;TZID=America/Denver:20240126T143000
DTSTAMP:20260421T091935
CREATED:20240206T210829Z
LAST-MODIFIED:20240206T210829Z
UID:16194-1706268600-1706279400@www.southernute-nsn.gov
SUMMARY:SU MPF - Valentine's Pow Wow Food Sale Fundraiser
DESCRIPTION:Join the SU MPF staff on January 26\, 2024\, from 11:30 a.m. – 2:30 p.m. for their Valentine’s Pow Wow Food Sale Fundraiser.  Please call (970) 563-2640 for more information.
URL:https://www.southernute-nsn.gov/event/su-mpf-valentines-pow-wow-food-sale-fundraiser/
END:VEVENT
END:VCALENDAR