BEGIN:VCALENDAR
VERSION:2.0
PRODID:-//Southern Ute Indian Tribe - ECPv6.15.20//NONSGML v1.0//EN
CALSCALE:GREGORIAN
METHOD:PUBLISH
X-WR-CALNAME:Southern Ute Indian Tribe
X-ORIGINAL-URL:https://www.southernute-nsn.gov
X-WR-CALDESC:Events for Southern Ute Indian Tribe
REFRESH-INTERVAL;VALUE=DURATION:PT1H
X-Robots-Tag:noindex
X-PUBLISHED-TTL:PT1H
BEGIN:VTIMEZONE
TZID:America/Denver
BEGIN:DAYLIGHT
TZOFFSETFROM:-0700
TZOFFSETTO:-0600
TZNAME:MDT
DTSTART:20230312T090000
END:DAYLIGHT
BEGIN:STANDARD
TZOFFSETFROM:-0600
TZOFFSETTO:-0700
TZNAME:MST
DTSTART:20231105T080000
END:STANDARD
BEGIN:DAYLIGHT
TZOFFSETFROM:-0700
TZOFFSETTO:-0600
TZNAME:MDT
DTSTART:20240310T090000
END:DAYLIGHT
BEGIN:STANDARD
TZOFFSETFROM:-0600
TZOFFSETTO:-0700
TZNAME:MST
DTSTART:20241103T080000
END:STANDARD
BEGIN:DAYLIGHT
TZOFFSETFROM:-0700
TZOFFSETTO:-0600
TZNAME:MDT
DTSTART:20250309T090000
END:DAYLIGHT
BEGIN:STANDARD
TZOFFSETFROM:-0600
TZOFFSETTO:-0700
TZNAME:MST
DTSTART:20251102T080000
END:STANDARD
END:VTIMEZONE
BEGIN:VEVENT
DTSTART;TZID=America/Denver:20240104T080000
DTEND;TZID=America/Denver:20240131T170000
DTSTAMP:20260424T072510
CREATED:20240104T231432Z
LAST-MODIFIED:20240104T231432Z
UID:15981-1704355200-1706720400@www.southernute-nsn.gov
SUMMARY:SU Wildlife Seeks Bids for (5) Bison - Southern Ute Tribal Members Only
DESCRIPTION:The Wildlife Resource Management Division will be collecting sealed bids from Tribal Members only for (5) Live Bison. They will all be females (3-9 yrs. old) 100% grass fed and are up to date on vaccines. \nBids are set at a $500 minimum and must be submitted by January 31st\, 2024\, by 5:00pm. All buyers will be required to sign a Sales Agreement and agree to the Terms and Conditions of the sale. \nFor more information\, please call the Wildlife Division at (970) 563-0130. \n \n 
URL:https://www.southernute-nsn.gov/event/su-wildlife-seeks-bids-for-5-bison-southern-ute-tribal-members-only/
END:VEVENT
BEGIN:VEVENT
DTSTART;TZID=America/Denver:20240119T113000
DTEND;TZID=America/Denver:20240119T133000
DTSTAMP:20260424T072510
CREATED:20240116T184816Z
LAST-MODIFIED:20240116T184816Z
UID:16053-1705663800-1705671000@www.southernute-nsn.gov
SUMMARY:SU MPF - Sip\, Chat & Chew
DESCRIPTION:Join the SU MPF Staff for the first Sip\, Chat & Chew of 2024 from 11:30 a.m. – 1:30 p.m. on January 19\, 2024.  Please call (970) 563-2640 for more information.
URL:https://www.southernute-nsn.gov/event/su-mpf-sip-chat-chew/
END:VEVENT
BEGIN:VEVENT
DTSTART;TZID=America/Denver:20240119T120000
DTEND;TZID=America/Denver:20240119T130000
DTSTAMP:20260424T072510
CREATED:20240103T174342Z
LAST-MODIFIED:20240103T174342Z
UID:15955-1705665600-1705669200@www.southernute-nsn.gov
SUMMARY:SMHW - Cervical Cancer Awareness Lunch & Learn
DESCRIPTION:Join Shining Mountain Health and Wellness on Friday January 19th at noon in the LCB Buckskin Charlie Room for a Cervical Cancer Awareness and prevention lunch and learn event. \nLunch provided and RSVP REQUIRED. \nThank you- \nHeather Sorensen\, MSN\, RN \nProgram Manager\, Shining Mountain Health and Wellness \nSouthern Ute Indian Tribe \n970-563-2349 office \nhsorensen@southernute-nsn.gov
URL:https://www.southernute-nsn.gov/event/smhw-cervical-cancer-awareness-lunch-learn/
END:VEVENT
END:VCALENDAR