BEGIN:VCALENDAR
VERSION:2.0
PRODID:-//Southern Ute Indian Tribe - ECPv6.15.20//NONSGML v1.0//EN
CALSCALE:GREGORIAN
METHOD:PUBLISH
X-WR-CALNAME:Southern Ute Indian Tribe
X-ORIGINAL-URL:https://www.southernute-nsn.gov
X-WR-CALDESC:Events for Southern Ute Indian Tribe
REFRESH-INTERVAL;VALUE=DURATION:PT1H
X-Robots-Tag:noindex
X-PUBLISHED-TTL:PT1H
BEGIN:VTIMEZONE
TZID:America/Denver
BEGIN:DAYLIGHT
TZOFFSETFROM:-0700
TZOFFSETTO:-0600
TZNAME:MDT
DTSTART:20220313T090000
END:DAYLIGHT
BEGIN:STANDARD
TZOFFSETFROM:-0600
TZOFFSETTO:-0700
TZNAME:MST
DTSTART:20221106T080000
END:STANDARD
BEGIN:DAYLIGHT
TZOFFSETFROM:-0700
TZOFFSETTO:-0600
TZNAME:MDT
DTSTART:20230312T090000
END:DAYLIGHT
BEGIN:STANDARD
TZOFFSETFROM:-0600
TZOFFSETTO:-0700
TZNAME:MST
DTSTART:20231105T080000
END:STANDARD
BEGIN:DAYLIGHT
TZOFFSETFROM:-0700
TZOFFSETTO:-0600
TZNAME:MDT
DTSTART:20240310T090000
END:DAYLIGHT
BEGIN:STANDARD
TZOFFSETFROM:-0600
TZOFFSETTO:-0700
TZNAME:MST
DTSTART:20241103T080000
END:STANDARD
BEGIN:DAYLIGHT
TZOFFSETFROM:-0700
TZOFFSETTO:-0600
TZNAME:MDT
DTSTART:20250309T090000
END:DAYLIGHT
BEGIN:STANDARD
TZOFFSETFROM:-0600
TZOFFSETTO:-0700
TZNAME:MST
DTSTART:20251102T080000
END:STANDARD
END:VTIMEZONE
BEGIN:VEVENT
DTSTART;TZID=America/Denver:20231231T180000
DTEND;TZID=America/Denver:20240101T010000
DTSTAMP:20260419T073849
CREATED:20231206T211235Z
LAST-MODIFIED:20231206T211308Z
UID:15747-1704045600-1704070800@www.southernute-nsn.gov
SUMMARY:New Year's Eve Celebration
DESCRIPTION:Come start your New Year’s Eve in a good way.  Join us with a Potluck dinner followed by singing and blessings into the New Year!  The event information is as follows: \nMulti-Purpose Facility \nDecember 21\, 2023\, 6:00 p.m. – 1:00 a.m. \n256 Ute Road\, Ignacio\, CO 81137 \nContact:  Alex Cloud at (970) 442-1013 \n \n 
URL:https://www.southernute-nsn.gov/event/new-years-eve-celebration/
END:VEVENT
BEGIN:VEVENT
DTSTART;VALUE=DATE:20240101
DTEND;VALUE=DATE:20240102
DTSTAMP:20260419T073849
CREATED:20231107T205950Z
LAST-MODIFIED:20240102T215827Z
UID:15541-1704067200-1704153599@www.southernute-nsn.gov
SUMMARY:New Year's Day - Tribal Entity Offices CLOSED
DESCRIPTION:The Southern Ute Permanent Fund\, Growth Fund\, and SUSS offices will be closed on January 1\, 2024\, in honor of the New Year’s Day holiday.  Normal business hours will resume on January 2\, 2024.
URL:https://www.southernute-nsn.gov/event/new-years-day-tribal-entity-offices-closed/
END:VEVENT
END:VCALENDAR