BEGIN:VCALENDAR
VERSION:2.0
PRODID:-//Southern Ute Indian Tribe - ECPv6.15.20//NONSGML v1.0//EN
CALSCALE:GREGORIAN
METHOD:PUBLISH
X-WR-CALNAME:Southern Ute Indian Tribe
X-ORIGINAL-URL:https://www.southernute-nsn.gov
X-WR-CALDESC:Events for Southern Ute Indian Tribe
REFRESH-INTERVAL;VALUE=DURATION:PT1H
X-Robots-Tag:noindex
X-PUBLISHED-TTL:PT1H
BEGIN:VTIMEZONE
TZID:America/Denver
BEGIN:DAYLIGHT
TZOFFSETFROM:-0700
TZOFFSETTO:-0600
TZNAME:MDT
DTSTART:20220313T090000
END:DAYLIGHT
BEGIN:STANDARD
TZOFFSETFROM:-0600
TZOFFSETTO:-0700
TZNAME:MST
DTSTART:20221106T080000
END:STANDARD
BEGIN:DAYLIGHT
TZOFFSETFROM:-0700
TZOFFSETTO:-0600
TZNAME:MDT
DTSTART:20230312T090000
END:DAYLIGHT
BEGIN:STANDARD
TZOFFSETFROM:-0600
TZOFFSETTO:-0700
TZNAME:MST
DTSTART:20231105T080000
END:STANDARD
BEGIN:DAYLIGHT
TZOFFSETFROM:-0700
TZOFFSETTO:-0600
TZNAME:MDT
DTSTART:20240310T090000
END:DAYLIGHT
BEGIN:STANDARD
TZOFFSETFROM:-0600
TZOFFSETTO:-0700
TZNAME:MST
DTSTART:20241103T080000
END:STANDARD
END:VTIMEZONE
BEGIN:VEVENT
DTSTART;VALUE=DATE:20231001
DTEND;VALUE=DATE:20231127
DTSTAMP:20260421T105526
CREATED:20230926T184522Z
LAST-MODIFIED:20230926T184522Z
UID:15070-1696118400-1701043199@www.southernute-nsn.gov
SUMMARY:Join SunUte Fitness for the FALL BACK INTO FITNESS Challenge!
DESCRIPTION:Complete your first weigh-in between today\, 9/25 and Friday\, 9/29. \n*We know you all may be busy\, so you can also complete your initial weigh-in next week 10/1-10/6. \nTo sign-up\, please contact Trainers Eliyah Lucero or Jakob Box at: \n(970)563-2658 or\, \nEliyah Lucero: elucero@southernute-nsn.gov \nJakob Box: jbox@southernute-nsn.gov
URL:https://www.southernute-nsn.gov/event/join-sunute-fitness-for-the-fall-back-into-fitness-challenge/
END:VEVENT
BEGIN:VEVENT
DTSTART;TZID=America/Denver:20231006T080000
DTEND;TZID=America/Denver:20231130T170000
DTSTAMP:20260421T105526
CREATED:20231002T224425Z
LAST-MODIFIED:20231030T201130Z
UID:15190-1696579200-1701363600@www.southernute-nsn.gov
SUMMARY:2023-2024 SunUte Youth Basketball Registration
DESCRIPTION:IT’S YOUTH BASKETBALL SEASON at SunUte!!!!!  Youth basketball registration opens October 6-November 30\, 2023.  Practices begin December 11\, 2023.  Games will be held on Saturdays beginning January 6-February 10\, 2024.  Volunteer coaches needed. For more information contact Recreation at (970) 563-0214.
URL:https://www.southernute-nsn.gov/event/2023-2024-sunute-youth-basketball-registration/
END:VEVENT
BEGIN:VEVENT
DTSTART;VALUE=DATE:20231120
DTEND;VALUE=DATE:20231125
DTSTAMP:20260421T105526
CREATED:20231115T230727Z
LAST-MODIFIED:20231115T230727Z
UID:15598-1700438400-1700870399@www.southernute-nsn.gov
SUMMARY:SUIMA Thanksgiving Break
DESCRIPTION:The Southern Ute Indian Montessori Academy will be closed November 20-24\, 2023\, for Thanksgiving break.  Staff and students will return on Monday\, November 27.  If you have any questions\, please call the school at 970-563-0253.
URL:https://www.southernute-nsn.gov/event/suima-thanksgiving-break/
END:VEVENT
BEGIN:VEVENT
DTSTART;VALUE=DATE:20231123
DTEND;VALUE=DATE:20231125
DTSTAMP:20260421T105526
CREATED:20231115T231751Z
LAST-MODIFIED:20231115T231751Z
UID:15600-1700697600-1700870399@www.southernute-nsn.gov
SUMMARY:SunUte CLOSED - 24/7 access only
DESCRIPTION:SunUte closure information is attached for this year’s Thanksgiving Holiday. Normal business hours resume on Saturday 11/25 (10am-5pm) \nHappy Turkey Day! \n 24/7 is Accessible
URL:https://www.southernute-nsn.gov/event/sunute-closed-24-7-access-only/
END:VEVENT
BEGIN:VEVENT
DTSTART;VALUE=DATE:20231123
DTEND;VALUE=DATE:20231125
DTSTAMP:20260421T105526
CREATED:20231115T232836Z
LAST-MODIFIED:20231115T232836Z
UID:15605-1700697600-1700870399@www.southernute-nsn.gov
SUMMARY:Thanksgiving Holiday - Tribal Entity Offices CLOSED
DESCRIPTION:In observance of the Thanksgiving holiday\, the Permanent Fund\, Growth Fund\, and SUSS offices will be closed November 23-24\, 2023.  Normal business hours will resume on Monday\, November 27\, 2023.
URL:https://www.southernute-nsn.gov/event/thanksgiving-holiday-tribal-entity-offices-closed-2/
END:VEVENT
BEGIN:VEVENT
DTSTART;TZID=America/Denver:20231124T101500
DTEND;TZID=America/Denver:20231124T140000
DTSTAMP:20260421T105526
CREATED:20231115T233442Z
LAST-MODIFIED:20231115T233922Z
UID:15607-1700820900-1700834400@www.southernute-nsn.gov
SUMMARY:Post Turkey Day Workout
DESCRIPTION:SunUte will be offering 4 classes on Friday\, November 24\, 2023\, from 10:15 a.m. – 2:00 p.m.  Please see the flyer below.
URL:https://www.southernute-nsn.gov/event/post-turkey-day-workout/
END:VEVENT
END:VCALENDAR